BEGIN:VCALENDAR
VERSION:2.0
PRODID:-//CTown Media - ECPv6.15.20//NONSGML v1.0//EN
CALSCALE:GREGORIAN
METHOD:PUBLISH
X-WR-CALNAME:CTown Media
X-ORIGINAL-URL:https://smalltownlive.com
X-WR-CALDESC:Events for CTown Media
REFRESH-INTERVAL;VALUE=DURATION:PT1H
X-Robots-Tag:noindex
X-PUBLISHED-TTL:PT1H
BEGIN:VTIMEZONE
TZID:America/Chicago
BEGIN:DAYLIGHT
TZOFFSETFROM:-0600
TZOFFSETTO:-0500
TZNAME:CDT
DTSTART:20240310T080000
END:DAYLIGHT
BEGIN:STANDARD
TZOFFSETFROM:-0500
TZOFFSETTO:-0600
TZNAME:CST
DTSTART:20241103T070000
END:STANDARD
BEGIN:DAYLIGHT
TZOFFSETFROM:-0600
TZOFFSETTO:-0500
TZNAME:CDT
DTSTART:20250309T080000
END:DAYLIGHT
BEGIN:STANDARD
TZOFFSETFROM:-0500
TZOFFSETTO:-0600
TZNAME:CST
DTSTART:20251102T070000
END:STANDARD
BEGIN:DAYLIGHT
TZOFFSETFROM:-0600
TZOFFSETTO:-0500
TZNAME:CDT
DTSTART:20260308T080000
END:DAYLIGHT
BEGIN:STANDARD
TZOFFSETFROM:-0500
TZOFFSETTO:-0600
TZNAME:CST
DTSTART:20261101T070000
END:STANDARD
END:VTIMEZONE
BEGIN:VEVENT
DTSTART;TZID=America/Chicago:20250829T183000
DTEND;TZID=America/Chicago:20250829T220000
DTSTAMP:20260424T040104
CREATED:20250828T040702Z
LAST-MODIFIED:20250828T040702Z
UID:124-1756492200-1756504800@smalltownlive.com
SUMMARY:CA Cougar Football
DESCRIPTION:
URL:https://smalltownlive.com/event/ca-cougar-football/
CATEGORIES:Football,Sports
ATTACH;FMTTYPE=image/png:https://smalltownlive.com/wp-content/uploads/2025/08/Heading.png
END:VEVENT
END:VCALENDAR